BEGIN:VCALENDAR
VERSION:2.0
PRODID:-//Thriving Churches - ECPv6.15.16//NONSGML v1.0//EN
CALSCALE:GREGORIAN
METHOD:PUBLISH
X-ORIGINAL-URL:https://thrivingchurcheshq.com
X-WR-CALDESC:Events for Thriving Churches
REFRESH-INTERVAL;VALUE=DURATION:PT1H
X-Robots-Tag:noindex
X-PUBLISHED-TTL:PT1H
BEGIN:VTIMEZONE
TZID:UTC
BEGIN:STANDARD
TZOFFSETFROM:+0000
TZOFFSETTO:+0000
TZNAME:UTC
DTSTART:20240101T000000
END:STANDARD
END:VTIMEZONE
BEGIN:VEVENT
DTSTART;TZID=UTC:20251109T100000
DTEND;TZID=UTC:20251109T120000
DTSTAMP:20260421T123945
CREATED:20250826T021552Z
LAST-MODIFIED:20250826T041141Z
UID:1748-1762682400-1762689600@thrivingchurcheshq.com
SUMMARY:Preaching - C3 Belong Church\, 10am
DESCRIPTION:
URL:https://thrivingchurcheshq.com/event/preaching-c3-belong-church-10am/
LOCATION:Belong Church\, 16 Poland Road\, Glenfield\, North Shore\, Auckland\, New Zealand
ATTACH;FMTTYPE=image/jpeg:https://thrivingchurcheshq.com/wp-content/uploads/2025/08/250325_ThrivingChurchesHQ_034-scaled.jpg
END:VEVENT
END:VCALENDAR