BEGIN:VCALENDAR
VERSION:2.0
PRODID:-//Thriving Churches - ECPv6.15.16//NONSGML v1.0//EN
CALSCALE:GREGORIAN
METHOD:PUBLISH
X-ORIGINAL-URL:https://thrivingchurcheshq.com
X-WR-CALDESC:Events for Thriving Churches
REFRESH-INTERVAL;VALUE=DURATION:PT1H
X-Robots-Tag:noindex
X-PUBLISHED-TTL:PT1H
BEGIN:VTIMEZONE
TZID:UTC
BEGIN:STANDARD
TZOFFSETFROM:+0000
TZOFFSETTO:+0000
TZNAME:UTC
DTSTART:20240101T000000
END:STANDARD
END:VTIMEZONE
BEGIN:VEVENT
DTSTART;TZID=UTC:20251124T090000
DTEND;TZID=UTC:20251124T160000
DTSTAMP:20260421T123853
CREATED:20250908T024324Z
LAST-MODIFIED:20251017T010251Z
UID:1765-1763974800-1764000000@thrivingchurcheshq.com
SUMMARY:New Perspective Therapy Externship
DESCRIPTION:Five-day intensive designed to sharpen core counselling skills and accelerate client change. \n24 – 28 November 2025
URL:https://thrivingchurcheshq.com/event/new-perspective-therapy-externship/
LOCATION:ChristChurch Laidlaw College\, Laidlaw College 70 Condell Avenue\, Papanui\, Christchurch\, Christchurch\, 8053\, New Zealand
ATTACH;FMTTYPE=image/png:https://thrivingchurcheshq.com/wp-content/uploads/2025/09/Externship-Image-Poster-e1773172565506.png
END:VEVENT
END:VCALENDAR