BEGIN:VCALENDAR
VERSION:2.0
PRODID:-//Thriving Churches - ECPv6.15.16//NONSGML v1.0//EN
CALSCALE:GREGORIAN
METHOD:PUBLISH
X-ORIGINAL-URL:https://thrivingchurcheshq.com
X-WR-CALDESC:Events for Thriving Churches
REFRESH-INTERVAL;VALUE=DURATION:PT1H
X-Robots-Tag:noindex
X-PUBLISHED-TTL:PT1H
BEGIN:VTIMEZONE
TZID:UTC
BEGIN:STANDARD
TZOFFSETFROM:+0000
TZOFFSETTO:+0000
TZNAME:UTC
DTSTART:20250101T000000
END:STANDARD
END:VTIMEZONE
BEGIN:VEVENT
DTSTART;TZID=UTC:20260607T094500
DTEND;TZID=UTC:20260607T113000
DTSTAMP:20260423T020731
CREATED:20260310T064816Z
LAST-MODIFIED:20260310T064816Z
UID:1974-1780825500-1780831800@thrivingchurcheshq.com
SUMMARY:Preaching - Whangaparaoa Baptist Church
DESCRIPTION:
URL:https://thrivingchurcheshq.com/event/preaching-whangaparaoa-baptist-church/
LOCATION:Whangaparaoa Baptist Church\, Whangaparaoa Baptist Church\, 733 Whangaparaoa Road\, Stanmore Bay\, Auckland\, 0943\, New Zealand
ATTACH;FMTTYPE=image/jpeg:https://thrivingchurcheshq.com/wp-content/uploads/2024/05/5-factors.jpg
END:VEVENT
BEGIN:VEVENT
DTSTART;TZID=UTC:20260629T090000
DTEND;TZID=UTC:20260703T160000
DTSTAMP:20260423T020731
CREATED:20260310T195731Z
LAST-MODIFIED:20260310T200313Z
UID:1976-1782723600-1783094400@thrivingchurcheshq.com
SUMMARY:New Perspective Therapy Externship
DESCRIPTION:Five-day intensive designed to sharpen core counselling skills and accelerate client change. \nTBC
URL:https://thrivingchurcheshq.com/event/new-perspective-therapy-externship-2/
LOCATION:Laidlaw College\, 70 Condell Ave\, Papanui\, Christchurch\, New Zealand
ATTACH;FMTTYPE=image/png:https://thrivingchurcheshq.com/wp-content/uploads/2025/09/Externship-Image-Poster-e1773172565506.png
END:VEVENT
BEGIN:VEVENT
DTSTART;TZID=UTC:20260823T090000
DTEND;TZID=UTC:20260823T123000
DTSTAMP:20260423T020731
CREATED:20260406T213140Z
LAST-MODIFIED:20260406T213140Z
UID:2089-1787475600-1787488200@thrivingchurcheshq.com
SUMMARY:Preaching - Riccarton Community Church\, 9.30am and 11am
DESCRIPTION:
URL:https://thrivingchurcheshq.com/event/preaching-riccarton-community-church-9-30am-and-11am-2/
LOCATION:Riccarton Community Church\, Riccarton Community Church\, 44 Elizabeth Street\, Christchurch\, New Zealand
ATTACH;FMTTYPE=image/jpeg:https://thrivingchurcheshq.com/wp-content/uploads/2025/08/250325_ThrivingChurchesHQ_034-scaled.jpg
END:VEVENT
BEGIN:VEVENT
DTSTART;TZID=UTC:20260928T090000
DTEND;TZID=UTC:20261002T160000
DTSTAMP:20260423T020731
CREATED:20260310T063330Z
LAST-MODIFIED:20260408T220116Z
UID:1970-1790586000-1790956800@thrivingchurcheshq.com
SUMMARY:Thrive Course – Christchurch
DESCRIPTION:28 September – 2 October\, 2026\n9:00am–4:00pm\n\n$750 +GST
URL:https://thrivingchurcheshq.com/event/thrive-course-christchurch/
LOCATION:La Vida Life Church\, 34a Hansons Lane\, Upper Riccarton\, Christchurch\, New Zealand
ATTACH;FMTTYPE=image/jpeg:https://thrivingchurcheshq.com/wp-content/uploads/2024/07/thrive-course.jpg
END:VEVENT
BEGIN:VEVENT
DTSTART;TZID=UTC:20261116T090000
DTEND;TZID=UTC:20261120T160000
DTSTAMP:20260423T020731
CREATED:20260310T195818Z
LAST-MODIFIED:20260310T200159Z
UID:1977-1794819600-1795190400@thrivingchurcheshq.com
SUMMARY:New Perspective Therapy Externship
DESCRIPTION:Five-day intensive designed to sharpen core counselling skills and accelerate client change. \nTBC
URL:https://thrivingchurcheshq.com/event/new-perspective-therapy-externship-3/
LOCATION:Laidlaw College\, 70 Condell Ave\, Papanui\, Christchurch\, New Zealand
ATTACH;FMTTYPE=image/png:https://thrivingchurcheshq.com/wp-content/uploads/2025/09/Externship-Image-Poster-e1773172565506.png
END:VEVENT
END:VCALENDAR