BEGIN:VCALENDAR
VERSION:2.0
PRODID:-//Thriving Churches - ECPv6.15.16//NONSGML v1.0//EN
CALSCALE:GREGORIAN
METHOD:PUBLISH
X-WR-CALNAME:Thriving Churches
X-ORIGINAL-URL:https://thrivingchurcheshq.com
X-WR-CALDESC:Events for Thriving Churches
REFRESH-INTERVAL;VALUE=DURATION:PT1H
X-Robots-Tag:noindex
X-PUBLISHED-TTL:PT1H
BEGIN:VTIMEZONE
TZID:UTC
BEGIN:STANDARD
TZOFFSETFROM:+0000
TZOFFSETTO:+0000
TZNAME:UTC
DTSTART:20230101T000000
END:STANDARD
END:VTIMEZONE
BEGIN:VEVENT
DTSTART;TZID=UTC:20240713T090000
DTEND;TZID=UTC:20240713T160000
DTSTAMP:20260423T125210
CREATED:20240702T032315Z
LAST-MODIFIED:20240703T073741Z
UID:1013-1720861200-1720886400@thrivingchurcheshq.com
SUMMARY:Pastoral Conversations 101 - Palmerston North
DESCRIPTION:Workshop Open to all
URL:https://thrivingchurcheshq.com/event/palmerston-north/
LOCATION:Christian Community Church\, Christian Community Church\, 54 Pascal Street\, Palmerston North\, New Zealand
ATTACH;FMTTYPE=image/jpeg:https://thrivingchurcheshq.com/wp-content/uploads/2024/07/july13-event.jpg
END:VEVENT
END:VCALENDAR