BEGIN:VCALENDAR
VERSION:2.0
PRODID:-//Thriving Churches - ECPv6.15.16//NONSGML v1.0//EN
CALSCALE:GREGORIAN
METHOD:PUBLISH
X-ORIGINAL-URL:https://thrivingchurcheshq.com
X-WR-CALDESC:Events for Thriving Churches
REFRESH-INTERVAL;VALUE=DURATION:PT1H
X-Robots-Tag:noindex
X-PUBLISHED-TTL:PT1H
BEGIN:VTIMEZONE
TZID:UTC
BEGIN:STANDARD
TZOFFSETFROM:+0000
TZOFFSETTO:+0000
TZNAME:UTC
DTSTART:20250101T000000
END:STANDARD
END:VTIMEZONE
BEGIN:VEVENT
DTSTART;TZID=UTC:20260823T090000
DTEND;TZID=UTC:20260823T123000
DTSTAMP:20260422T185010
CREATED:20260406T213140Z
LAST-MODIFIED:20260406T213140Z
UID:2089-1787475600-1787488200@thrivingchurcheshq.com
SUMMARY:Preaching - Riccarton Community Church\, 9.30am and 11am
DESCRIPTION:
URL:https://thrivingchurcheshq.com/event/preaching-riccarton-community-church-9-30am-and-11am-2/
LOCATION:Riccarton Community Church\, Riccarton Community Church\, 44 Elizabeth Street\, Christchurch\, New Zealand
ATTACH;FMTTYPE=image/jpeg:https://thrivingchurcheshq.com/wp-content/uploads/2025/08/250325_ThrivingChurchesHQ_034-scaled.jpg
END:VEVENT
END:VCALENDAR