BEGIN:VCALENDAR
VERSION:2.0
PRODID:-//Thriving Churches - ECPv6.15.16//NONSGML v1.0//EN
CALSCALE:GREGORIAN
METHOD:PUBLISH
X-ORIGINAL-URL:https://thrivingchurcheshq.com
X-WR-CALDESC:Events for Thriving Churches
REFRESH-INTERVAL;VALUE=DURATION:PT1H
X-Robots-Tag:noindex
X-PUBLISHED-TTL:PT1H
BEGIN:VTIMEZONE
TZID:UTC
BEGIN:STANDARD
TZOFFSETFROM:+0000
TZOFFSETTO:+0000
TZNAME:UTC
DTSTART:20250101T000000
END:STANDARD
END:VTIMEZONE
BEGIN:VEVENT
DTSTART;TZID=UTC:20260928T090000
DTEND;TZID=UTC:20261002T160000
DTSTAMP:20260422T231814
CREATED:20260310T063330Z
LAST-MODIFIED:20260408T220116Z
UID:1970-1790586000-1790956800@thrivingchurcheshq.com
SUMMARY:Thrive Course – Christchurch
DESCRIPTION:28 September – 2 October\, 2026\n9:00am–4:00pm\n\n$750 +GST
URL:https://thrivingchurcheshq.com/event/thrive-course-christchurch/
LOCATION:La Vida Life Church\, 34a Hansons Lane\, Upper Riccarton\, Christchurch\, New Zealand
ATTACH;FMTTYPE=image/jpeg:https://thrivingchurcheshq.com/wp-content/uploads/2024/07/thrive-course.jpg
END:VEVENT
END:VCALENDAR