BEGIN:VCALENDAR
VERSION:2.0
PRODID:-//Thriving Churches - ECPv6.15.16//NONSGML v1.0//EN
CALSCALE:GREGORIAN
METHOD:PUBLISH
X-ORIGINAL-URL:https://thrivingchurcheshq.com
X-WR-CALDESC:Events for Thriving Churches
REFRESH-INTERVAL;VALUE=DURATION:PT1H
X-Robots-Tag:noindex
X-PUBLISHED-TTL:PT1H
BEGIN:VTIMEZONE
TZID:UTC
BEGIN:STANDARD
TZOFFSETFROM:+0000
TZOFFSETTO:+0000
TZNAME:UTC
DTSTART:20250101T000000
END:STANDARD
END:VTIMEZONE
BEGIN:VEVENT
DTSTART;TZID=UTC:20260421T130000
DTEND;TZID=UTC:20260421T140000
DTSTAMP:20260420T123912
CREATED:20260330T202503Z
LAST-MODIFIED:20260408T215703Z
UID:2064-1776776400-1776780000@thrivingchurcheshq.com
SUMMARY:Building a Healthy Pastoral Care System Webinar
DESCRIPTION:Designed for pastors and ministry leaders who want to strengthen care while protecting their team.
URL:https://thrivingchurcheshq.com/event/building-a-healthy-pastoral-care-system-webinar/
LOCATION:online
ATTACH;FMTTYPE=image/jpeg:https://thrivingchurcheshq.com/wp-content/uploads/2026/03/Church-fellowship-women-group-cropped-scaled.jpg
END:VEVENT
END:VCALENDAR